BEGIN:VCALENDAR
VERSION:2.0
PRODID:-//Pátyi Waldorf - ECPv6.15.11//NONSGML v1.0//EN
CALSCALE:GREGORIAN
METHOD:PUBLISH
X-WR-CALNAME:Pátyi Waldorf
X-ORIGINAL-URL:https://patyiwaldorf.hu
X-WR-CALDESC:Események Pátyi Waldorf
REFRESH-INTERVAL;VALUE=DURATION:PT1H
X-Robots-Tag:noindex
X-PUBLISHED-TTL:PT1H
BEGIN:VTIMEZONE
TZID:Europe/Paris
BEGIN:DAYLIGHT
TZOFFSETFROM:+0100
TZOFFSETTO:+0200
TZNAME:CEST
DTSTART:20240331T010000
END:DAYLIGHT
BEGIN:STANDARD
TZOFFSETFROM:+0200
TZOFFSETTO:+0100
TZNAME:CET
DTSTART:20241027T010000
END:STANDARD
BEGIN:DAYLIGHT
TZOFFSETFROM:+0100
TZOFFSETTO:+0200
TZNAME:CEST
DTSTART:20250330T010000
END:DAYLIGHT
BEGIN:STANDARD
TZOFFSETFROM:+0200
TZOFFSETTO:+0100
TZNAME:CET
DTSTART:20251026T010000
END:STANDARD
BEGIN:DAYLIGHT
TZOFFSETFROM:+0100
TZOFFSETTO:+0200
TZNAME:CEST
DTSTART:20260329T010000
END:DAYLIGHT
BEGIN:STANDARD
TZOFFSETFROM:+0200
TZOFFSETTO:+0100
TZNAME:CET
DTSTART:20261025T010000
END:STANDARD
END:VTIMEZONE
BEGIN:VEVENT
DTSTART;TZID=Europe/Paris:20251008T173000
DTEND;TZID=Europe/Paris:20251008T193000
DTSTAMP:20260424T152808
CREATED:20250919T092055Z
LAST-MODIFIED:20250919T094103Z
UID:5147-1759944600-1759951800@patyiwaldorf.hu
SUMMARY:Szülők iskolája - Drogprevenció
DESCRIPTION:
URL:https://patyiwaldorf.hu/esemenynaptar/szulok-iskolaja-drogprevencio/
END:VEVENT
BEGIN:VEVENT
DTSTART;TZID=Europe/Paris:20251016T170000
DTEND;TZID=Europe/Paris:20251016T180000
DTSTAMP:20260424T152808
CREATED:20250919T092516Z
LAST-MODIFIED:20250919T092909Z
UID:5149-1760634000-1760637600@patyiwaldorf.hu
SUMMARY:Ünnepi hangolódás - Márton nap
DESCRIPTION:
URL:https://patyiwaldorf.hu/esemenynaptar/unnepi-hangolodas-marton-nap/
END:VEVENT
BEGIN:VEVENT
DTSTART;TZID=Europe/Paris:20251018T080000
DTEND;TZID=Europe/Paris:20251018T100000
DTSTAMP:20260424T152808
CREATED:20250906T052704Z
LAST-MODIFIED:20250930T115039Z
UID:5030-1760774400-1760781600@patyiwaldorf.hu
SUMMARY:Hónapünnep
DESCRIPTION:
URL:https://patyiwaldorf.hu/esemenynaptar/honapunnep-3/
END:VEVENT
BEGIN:VEVENT
DTSTART;VALUE=DATE:20251023
DTEND;VALUE=DATE:20251103
DTSTAMP:20260424T152808
CREATED:20250906T052759Z
LAST-MODIFIED:20250906T052759Z
UID:5032-1761177600-1762127999@patyiwaldorf.hu
SUMMARY:Őszi szünet
DESCRIPTION:
URL:https://patyiwaldorf.hu/esemenynaptar/oszi-szunet-2/
END:VEVENT
END:VCALENDAR