BEGIN:VCALENDAR
VERSION:2.0
PRODID:-//Pátyi Waldorf - ECPv6.15.11//NONSGML v1.0//EN
CALSCALE:GREGORIAN
METHOD:PUBLISH
X-WR-CALNAME:Pátyi Waldorf
X-ORIGINAL-URL:https://patyiwaldorf.hu
X-WR-CALDESC:Események Pátyi Waldorf
REFRESH-INTERVAL;VALUE=DURATION:PT1H
X-Robots-Tag:noindex
X-PUBLISHED-TTL:PT1H
BEGIN:VTIMEZONE
TZID:Europe/Paris
BEGIN:DAYLIGHT
TZOFFSETFROM:+0100
TZOFFSETTO:+0200
TZNAME:CEST
DTSTART:20240331T010000
END:DAYLIGHT
BEGIN:STANDARD
TZOFFSETFROM:+0200
TZOFFSETTO:+0100
TZNAME:CET
DTSTART:20241027T010000
END:STANDARD
BEGIN:DAYLIGHT
TZOFFSETFROM:+0100
TZOFFSETTO:+0200
TZNAME:CEST
DTSTART:20250330T010000
END:DAYLIGHT
BEGIN:STANDARD
TZOFFSETFROM:+0200
TZOFFSETTO:+0100
TZNAME:CET
DTSTART:20251026T010000
END:STANDARD
BEGIN:DAYLIGHT
TZOFFSETFROM:+0100
TZOFFSETTO:+0200
TZNAME:CEST
DTSTART:20260329T010000
END:DAYLIGHT
BEGIN:STANDARD
TZOFFSETFROM:+0200
TZOFFSETTO:+0100
TZNAME:CET
DTSTART:20261025T010000
END:STANDARD
END:VTIMEZONE
BEGIN:VEVENT
DTSTART;VALUE=DATE:20251023
DTEND;VALUE=DATE:20251103
DTSTAMP:20260424T134744
CREATED:20250906T052759Z
LAST-MODIFIED:20250906T052759Z
UID:5032-1761177600-1762127999@patyiwaldorf.hu
SUMMARY:Őszi szünet
DESCRIPTION:
URL:https://patyiwaldorf.hu/esemenynaptar/oszi-szunet-2/
END:VEVENT
BEGIN:VEVENT
DTSTART;VALUE=DATE:20251107
DTEND;VALUE=DATE:20251108
DTSTAMP:20260424T134744
CREATED:20250910T065113Z
LAST-MODIFIED:20250910T065113Z
UID:5047-1762473600-1762559999@patyiwaldorf.hu
SUMMARY:Márton nap
DESCRIPTION:
URL:https://patyiwaldorf.hu/esemenynaptar/marton-nap-2/
END:VEVENT
BEGIN:VEVENT
DTSTART;TZID=Europe/Paris:20251122T100000
DTEND;TZID=Europe/Paris:20251122T160000
DTSTAMP:20260424T134744
CREATED:20251113T134916Z
LAST-MODIFIED:20251113T134916Z
UID:5320-1763805600-1763827200@patyiwaldorf.hu
SUMMARY:Katalin-napi vásár
DESCRIPTION:
URL:https://patyiwaldorf.hu/esemenynaptar/katalin-napi-vasar/
END:VEVENT
BEGIN:VEVENT
DTSTART;TZID=Europe/Paris:20251127T170000
DTEND;TZID=Europe/Paris:20251127T180000
DTSTAMP:20260424T134744
CREATED:20250919T092606Z
LAST-MODIFIED:20250919T092606Z
UID:5151-1764262800-1764266400@patyiwaldorf.hu
SUMMARY:Ünnepi hangolódás - Advent
DESCRIPTION:
URL:https://patyiwaldorf.hu/esemenynaptar/unnepi-hangolodas-advent/
END:VEVENT
BEGIN:VEVENT
DTSTART;TZID=Europe/Paris:20251127T180000
DTEND;TZID=Europe/Paris:20251127T200000
DTSTAMP:20260424T134744
CREATED:20251014T073705Z
LAST-MODIFIED:20251014T074654Z
UID:5223-1764266400-1764273600@patyiwaldorf.hu
SUMMARY:Pátyi Waldorf Estek - Pedagógiai beszélgetés iskolánk mentoraival
DESCRIPTION:
URL:https://patyiwaldorf.hu/esemenynaptar/pedagogiai-beszelgetes-iskolank-mentoraival/
END:VEVENT
END:VCALENDAR