BEGIN:VCALENDAR
VERSION:2.0
PRODID:-//Pátyi Waldorf - ECPv6.15.11//NONSGML v1.0//EN
CALSCALE:GREGORIAN
METHOD:PUBLISH
X-WR-CALNAME:Pátyi Waldorf
X-ORIGINAL-URL:https://patyiwaldorf.hu
X-WR-CALDESC:Események Pátyi Waldorf
REFRESH-INTERVAL;VALUE=DURATION:PT1H
X-Robots-Tag:noindex
X-PUBLISHED-TTL:PT1H
BEGIN:VTIMEZONE
TZID:Europe/Paris
BEGIN:DAYLIGHT
TZOFFSETFROM:+0100
TZOFFSETTO:+0200
TZNAME:CEST
DTSTART:20240331T010000
END:DAYLIGHT
BEGIN:STANDARD
TZOFFSETFROM:+0200
TZOFFSETTO:+0100
TZNAME:CET
DTSTART:20241027T010000
END:STANDARD
BEGIN:DAYLIGHT
TZOFFSETFROM:+0100
TZOFFSETTO:+0200
TZNAME:CEST
DTSTART:20250330T010000
END:DAYLIGHT
BEGIN:STANDARD
TZOFFSETFROM:+0200
TZOFFSETTO:+0100
TZNAME:CET
DTSTART:20251026T010000
END:STANDARD
BEGIN:DAYLIGHT
TZOFFSETFROM:+0100
TZOFFSETTO:+0200
TZNAME:CEST
DTSTART:20260329T010000
END:DAYLIGHT
BEGIN:STANDARD
TZOFFSETFROM:+0200
TZOFFSETTO:+0100
TZNAME:CET
DTSTART:20261025T010000
END:STANDARD
BEGIN:DAYLIGHT
TZOFFSETFROM:+0100
TZOFFSETTO:+0200
TZNAME:CEST
DTSTART:20270328T010000
END:DAYLIGHT
BEGIN:STANDARD
TZOFFSETFROM:+0200
TZOFFSETTO:+0100
TZNAME:CET
DTSTART:20271031T010000
END:STANDARD
END:VTIMEZONE
BEGIN:VEVENT
DTSTART;VALUE=DATE:20251205
DTEND;VALUE=DATE:20251206
DTSTAMP:20260424T122021
CREATED:20250910T065206Z
LAST-MODIFIED:20250910T065206Z
UID:5049-1764892800-1764979199@patyiwaldorf.hu
SUMMARY:Szent Miklós
DESCRIPTION:
URL:https://patyiwaldorf.hu/esemenynaptar/szent-miklos-2/
END:VEVENT
BEGIN:VEVENT
DTSTART;VALUE=DATE:20251212
DTEND;VALUE=DATE:20251214
DTSTAMP:20260424T122021
CREATED:20250910T065255Z
LAST-MODIFIED:20250910T065255Z
UID:5051-1765497600-1765670399@patyiwaldorf.hu
SUMMARY:Adventi Kert
DESCRIPTION:
URL:https://patyiwaldorf.hu/esemenynaptar/adventi-kert-3/
END:VEVENT
BEGIN:VEVENT
DTSTART;TZID=Europe/Paris:20251219T170000
DTEND;TZID=Europe/Paris:20251219T180000
DTSTAMP:20260424T122021
CREATED:20250910T065442Z
LAST-MODIFIED:20250910T065442Z
UID:5053-1766163600-1766167200@patyiwaldorf.hu
SUMMARY:Pásztorjáték
DESCRIPTION:
URL:https://patyiwaldorf.hu/esemenynaptar/pasztorjatek-2/
END:VEVENT
BEGIN:VEVENT
DTSTART;VALUE=DATE:20251220
DTEND;VALUE=DATE:20260105
DTSTAMP:20260424T122021
CREATED:20250910T065522Z
LAST-MODIFIED:20250910T065522Z
UID:5055-1766188800-1767571199@patyiwaldorf.hu
SUMMARY:Téli szünet
DESCRIPTION:
URL:https://patyiwaldorf.hu/esemenynaptar/teli-szunet-2/
END:VEVENT
END:VCALENDAR