BEGIN:VCALENDAR
VERSION:2.0
PRODID:-//Pátyi Waldorf - ECPv6.15.11//NONSGML v1.0//EN
CALSCALE:GREGORIAN
METHOD:PUBLISH
X-WR-CALNAME:Pátyi Waldorf
X-ORIGINAL-URL:https://patyiwaldorf.hu
X-WR-CALDESC:Események Pátyi Waldorf
REFRESH-INTERVAL;VALUE=DURATION:PT1H
X-Robots-Tag:noindex
X-PUBLISHED-TTL:PT1H
BEGIN:VTIMEZONE
TZID:Europe/Paris
BEGIN:DAYLIGHT
TZOFFSETFROM:+0100
TZOFFSETTO:+0200
TZNAME:CEST
DTSTART:20240331T010000
END:DAYLIGHT
BEGIN:STANDARD
TZOFFSETFROM:+0200
TZOFFSETTO:+0100
TZNAME:CET
DTSTART:20241027T010000
END:STANDARD
BEGIN:DAYLIGHT
TZOFFSETFROM:+0100
TZOFFSETTO:+0200
TZNAME:CEST
DTSTART:20250330T010000
END:DAYLIGHT
BEGIN:STANDARD
TZOFFSETFROM:+0200
TZOFFSETTO:+0100
TZNAME:CET
DTSTART:20251026T010000
END:STANDARD
BEGIN:DAYLIGHT
TZOFFSETFROM:+0100
TZOFFSETTO:+0200
TZNAME:CEST
DTSTART:20260329T010000
END:DAYLIGHT
BEGIN:STANDARD
TZOFFSETFROM:+0200
TZOFFSETTO:+0100
TZNAME:CET
DTSTART:20261025T010000
END:STANDARD
BEGIN:DAYLIGHT
TZOFFSETFROM:+0100
TZOFFSETTO:+0200
TZNAME:CEST
DTSTART:20270328T010000
END:DAYLIGHT
BEGIN:STANDARD
TZOFFSETFROM:+0200
TZOFFSETTO:+0100
TZNAME:CET
DTSTART:20271031T010000
END:STANDARD
END:VTIMEZONE
BEGIN:VEVENT
DTSTART;VALUE=DATE:20251220
DTEND;VALUE=DATE:20260105
DTSTAMP:20260422T133554
CREATED:20250910T065522Z
LAST-MODIFIED:20250910T065522Z
UID:5055-1766188800-1767571199@patyiwaldorf.hu
SUMMARY:Téli szünet
DESCRIPTION:
URL:https://patyiwaldorf.hu/esemenynaptar/teli-szunet-2/
END:VEVENT
BEGIN:VEVENT
DTSTART;TZID=Europe/Paris:20260115T180000
DTEND;TZID=Europe/Paris:20260115T200000
DTSTAMP:20260422T133554
CREATED:20251014T073926Z
LAST-MODIFIED:20251014T073926Z
UID:5225-1768500000-1768507200@patyiwaldorf.hu
SUMMARY:Pátyi Waldorf Estek - Pedagógiai beszélgetés Kökéndy Ákossal
DESCRIPTION:
URL:https://patyiwaldorf.hu/esemenynaptar/patyi-waldorf-estek-pedagogiai-beszelgetes-kokendy-akossal/
END:VEVENT
BEGIN:VEVENT
DTSTART;VALUE=DATE:20260130
DTEND;VALUE=DATE:20260131
DTSTAMP:20260422T133555
CREATED:20250910T065741Z
LAST-MODIFIED:20250910T065741Z
UID:5058-1769731200-1769817599@patyiwaldorf.hu
SUMMARY:Félévi bizonyítványok kiosztása
DESCRIPTION:
URL:https://patyiwaldorf.hu/esemenynaptar/felevi-bizonyitvanyok-kiosztasa/
END:VEVENT
BEGIN:VEVENT
DTSTART;VALUE=DATE:20260131
DTEND;VALUE=DATE:20260201
DTSTAMP:20260422T133555
CREATED:20251014T074020Z
LAST-MODIFIED:20251014T074020Z
UID:5227-1769817600-1769903999@patyiwaldorf.hu
SUMMARY:Pátyi Waldorf Estek - Nyílt nap
DESCRIPTION:
URL:https://patyiwaldorf.hu/esemenynaptar/patyi-waldorf-estek-nyilt-nap/
END:VEVENT
END:VCALENDAR