BEGIN:VCALENDAR
VERSION:2.0
PRODID:-//Pátyi Waldorf - ECPv6.15.11//NONSGML v1.0//EN
CALSCALE:GREGORIAN
METHOD:PUBLISH
X-ORIGINAL-URL:https://patyiwaldorf.hu
X-WR-CALDESC:Események Pátyi Waldorf
REFRESH-INTERVAL;VALUE=DURATION:PT1H
X-Robots-Tag:noindex
X-PUBLISHED-TTL:PT1H
BEGIN:VTIMEZONE
TZID:Europe/Paris
BEGIN:DAYLIGHT
TZOFFSETFROM:+0100
TZOFFSETTO:+0200
TZNAME:CEST
DTSTART:20250330T010000
END:DAYLIGHT
BEGIN:STANDARD
TZOFFSETFROM:+0200
TZOFFSETTO:+0100
TZNAME:CET
DTSTART:20251026T010000
END:STANDARD
BEGIN:DAYLIGHT
TZOFFSETFROM:+0100
TZOFFSETTO:+0200
TZNAME:CEST
DTSTART:20260329T010000
END:DAYLIGHT
BEGIN:STANDARD
TZOFFSETFROM:+0200
TZOFFSETTO:+0100
TZNAME:CET
DTSTART:20261025T010000
END:STANDARD
BEGIN:DAYLIGHT
TZOFFSETFROM:+0100
TZOFFSETTO:+0200
TZNAME:CEST
DTSTART:20270328T010000
END:DAYLIGHT
BEGIN:STANDARD
TZOFFSETFROM:+0200
TZOFFSETTO:+0100
TZNAME:CET
DTSTART:20271031T010000
END:STANDARD
END:VTIMEZONE
BEGIN:VEVENT
DTSTART;VALUE=DATE:20260206
DTEND;VALUE=DATE:20260207
DTSTAMP:20260422T121138
CREATED:20250910T070012Z
LAST-MODIFIED:20250910T070012Z
UID:5062-1770336000-1770422399@patyiwaldorf.hu
SUMMARY:Farsang
DESCRIPTION:
URL:https://patyiwaldorf.hu/esemenynaptar/farsang-2/
END:VEVENT
BEGIN:VEVENT
DTSTART;VALUE=DATE:20260209
DTEND;VALUE=DATE:20260216
DTSTAMP:20260422T121138
CREATED:20250910T070142Z
LAST-MODIFIED:20250910T070142Z
UID:5064-1770595200-1771199999@patyiwaldorf.hu
SUMMARY:Síszünet
DESCRIPTION:
URL:https://patyiwaldorf.hu/esemenynaptar/siszunet/
END:VEVENT
BEGIN:VEVENT
DTSTART;TZID=Europe/Paris:20260219T180000
DTEND;TZID=Europe/Paris:20260219T200000
DTSTAMP:20260422T121138
CREATED:20251014T074132Z
LAST-MODIFIED:20251014T074132Z
UID:5229-1771524000-1771531200@patyiwaldorf.hu
SUMMARY:Pátyi Waldorf Estek - Osztálytanítónk bemutatkozása
DESCRIPTION:
URL:https://patyiwaldorf.hu/esemenynaptar/patyi-waldorf-estek-osztalytanitonk-bemutatkozasa/
END:VEVENT
BEGIN:VEVENT
DTSTART;VALUE=DATE:20260222
DTEND;VALUE=DATE:20260223
DTSTAMP:20260422T121138
CREATED:20251105T085115Z
LAST-MODIFIED:20251105T085115Z
UID:5263-1771718400-1771804799@patyiwaldorf.hu
SUMMARY:Jelentkezési határidő leendő elsősöknek
DESCRIPTION:
URL:https://patyiwaldorf.hu/esemenynaptar/jelentkezesi-hatarido-leendo-elsosoknek/
END:VEVENT
END:VCALENDAR