BEGIN:VCALENDAR
VERSION:2.0
PRODID:-//Pátyi Waldorf - ECPv6.15.11//NONSGML v1.0//EN
CALSCALE:GREGORIAN
METHOD:PUBLISH
X-WR-CALNAME:Pátyi Waldorf
X-ORIGINAL-URL:https://patyiwaldorf.hu
X-WR-CALDESC:Események Pátyi Waldorf
REFRESH-INTERVAL;VALUE=DURATION:PT1H
X-Robots-Tag:noindex
X-PUBLISHED-TTL:PT1H
BEGIN:VTIMEZONE
TZID:Europe/Paris
BEGIN:DAYLIGHT
TZOFFSETFROM:+0100
TZOFFSETTO:+0200
TZNAME:CEST
DTSTART:20250330T010000
END:DAYLIGHT
BEGIN:STANDARD
TZOFFSETFROM:+0200
TZOFFSETTO:+0100
TZNAME:CET
DTSTART:20251026T010000
END:STANDARD
BEGIN:DAYLIGHT
TZOFFSETFROM:+0100
TZOFFSETTO:+0200
TZNAME:CEST
DTSTART:20260329T010000
END:DAYLIGHT
BEGIN:STANDARD
TZOFFSETFROM:+0200
TZOFFSETTO:+0100
TZNAME:CET
DTSTART:20261025T010000
END:STANDARD
BEGIN:DAYLIGHT
TZOFFSETFROM:+0100
TZOFFSETTO:+0200
TZNAME:CEST
DTSTART:20270328T010000
END:DAYLIGHT
BEGIN:STANDARD
TZOFFSETFROM:+0200
TZOFFSETTO:+0100
TZNAME:CET
DTSTART:20271031T010000
END:STANDARD
END:VTIMEZONE
BEGIN:VEVENT
DTSTART;VALUE=DATE:20260306
DTEND;VALUE=DATE:20260308
DTSTAMP:20260420T105705
CREATED:20251105T085223Z
LAST-MODIFIED:20251105T090513Z
UID:5265-1772755200-1772927999@patyiwaldorf.hu
SUMMARY:Ismerkedő játék leendő elsősöknek
DESCRIPTION:
URL:https://patyiwaldorf.hu/esemenynaptar/ismerkedo-jatek-leendo-elsosoknek/
END:VEVENT
BEGIN:VEVENT
DTSTART;VALUE=DATE:20260309
DTEND;VALUE=DATE:20260414
DTSTAMP:20260420T105705
CREATED:20251105T085731Z
LAST-MODIFIED:20251105T114507Z
UID:5272-1773014400-1776124799@patyiwaldorf.hu
SUMMARY:Ismerkedő beszélgetés a leendő elsős gyermekek szüleivel
DESCRIPTION:
URL:https://patyiwaldorf.hu/esemenynaptar/ismerkedo-beszelgetes-a-leendo-elsos-gyermekek-szuleivel/
END:VEVENT
BEGIN:VEVENT
DTSTART;VALUE=DATE:20260313
DTEND;VALUE=DATE:20260314
DTSTAMP:20260420T105705
CREATED:20250910T070234Z
LAST-MODIFIED:20250910T070234Z
UID:5066-1773360000-1773446399@patyiwaldorf.hu
SUMMARY:Hónapünnep
DESCRIPTION:
URL:https://patyiwaldorf.hu/esemenynaptar/honapunnep-4/
END:VEVENT
BEGIN:VEVENT
DTSTART;VALUE=DATE:20260313
DTEND;VALUE=DATE:20260315
DTSTAMP:20260420T105705
CREATED:20251105T085355Z
LAST-MODIFIED:20251105T085355Z
UID:5267-1773360000-1773532799@patyiwaldorf.hu
SUMMARY:Pótjelentkezés a leendő 1. osztályba
DESCRIPTION:
URL:https://patyiwaldorf.hu/esemenynaptar/potjelentkezes-a-leendo-1-osztalyba/
END:VEVENT
BEGIN:VEVENT
DTSTART;TZID=Europe/Paris:20260319T170000
DTEND;TZID=Europe/Paris:20260319T180000
DTSTAMP:20260420T105705
CREATED:20250919T092708Z
LAST-MODIFIED:20250919T092708Z
UID:5153-1773939600-1773943200@patyiwaldorf.hu
SUMMARY:Ünnepi hangolódás - Húsvét
DESCRIPTION:
URL:https://patyiwaldorf.hu/esemenynaptar/unnepi-hangolodas-husvet/
END:VEVENT
BEGIN:VEVENT
DTSTART;VALUE=DATE:20260331
DTEND;VALUE=DATE:20260401
DTSTAMP:20260420T105705
CREATED:20250910T070407Z
LAST-MODIFIED:20250910T070407Z
UID:5068-1774915200-1775001599@patyiwaldorf.hu
SUMMARY:Tavaszi koncert
DESCRIPTION:
URL:https://patyiwaldorf.hu/esemenynaptar/tavaszi-koncert/
END:VEVENT
END:VCALENDAR