BEGIN:VCALENDAR
VERSION:2.0
PRODID:-//Pátyi Waldorf - ECPv6.15.11//NONSGML v1.0//EN
CALSCALE:GREGORIAN
METHOD:PUBLISH
X-WR-CALNAME:Pátyi Waldorf
X-ORIGINAL-URL:https://patyiwaldorf.hu
X-WR-CALDESC:Események Pátyi Waldorf
REFRESH-INTERVAL;VALUE=DURATION:PT1H
X-Robots-Tag:noindex
X-PUBLISHED-TTL:PT1H
BEGIN:VTIMEZONE
TZID:Europe/Paris
BEGIN:DAYLIGHT
TZOFFSETFROM:+0100
TZOFFSETTO:+0200
TZNAME:CEST
DTSTART:20250330T010000
END:DAYLIGHT
BEGIN:STANDARD
TZOFFSETFROM:+0200
TZOFFSETTO:+0100
TZNAME:CET
DTSTART:20251026T010000
END:STANDARD
BEGIN:DAYLIGHT
TZOFFSETFROM:+0100
TZOFFSETTO:+0200
TZNAME:CEST
DTSTART:20260329T010000
END:DAYLIGHT
BEGIN:STANDARD
TZOFFSETFROM:+0200
TZOFFSETTO:+0100
TZNAME:CET
DTSTART:20261025T010000
END:STANDARD
BEGIN:DAYLIGHT
TZOFFSETFROM:+0100
TZOFFSETTO:+0200
TZNAME:CEST
DTSTART:20270328T010000
END:DAYLIGHT
BEGIN:STANDARD
TZOFFSETFROM:+0200
TZOFFSETTO:+0100
TZNAME:CET
DTSTART:20271031T010000
END:STANDARD
END:VTIMEZONE
BEGIN:VEVENT
DTSTART;VALUE=DATE:20260606
DTEND;VALUE=DATE:20260607
DTSTAMP:20260420T125201
CREATED:20250910T071545Z
LAST-MODIFIED:20250910T071545Z
UID:5078-1780704000-1780790399@patyiwaldorf.hu
SUMMARY:Dráma nap
DESCRIPTION:
URL:https://patyiwaldorf.hu/esemenynaptar/drama-nap/
END:VEVENT
BEGIN:VEVENT
DTSTART;TZID=Europe/Paris:20260613T080000
DTEND;TZID=Europe/Paris:20260613T100000
DTSTAMP:20260420T125201
CREATED:20250910T071656Z
LAST-MODIFIED:20250910T071656Z
UID:5080-1781337600-1781344800@patyiwaldorf.hu
SUMMARY:Ballagás
DESCRIPTION:
URL:https://patyiwaldorf.hu/esemenynaptar/ballagas/
END:VEVENT
BEGIN:VEVENT
DTSTART;VALUE=DATE:20260619
DTEND;VALUE=DATE:20260620
DTSTAMP:20260420T125201
CREATED:20250910T071747Z
LAST-MODIFIED:20250910T071747Z
UID:5082-1781827200-1781913599@patyiwaldorf.hu
SUMMARY:Tanév vége
DESCRIPTION:
URL:https://patyiwaldorf.hu/esemenynaptar/tanev-vege/
END:VEVENT
BEGIN:VEVENT
DTSTART;TZID=Europe/Paris:20260620T190000
DTEND;TZID=Europe/Paris:20260620T220000
DTSTAMP:20260420T125201
CREATED:20260414T091413Z
LAST-MODIFIED:20260414T091413Z
UID:6236-1781982000-1781992800@patyiwaldorf.hu
SUMMARY:PáWa Band koncert
DESCRIPTION:
URL:https://patyiwaldorf.hu/esemenynaptar/pawa-band-koncert/
END:VEVENT
BEGIN:VEVENT
DTSTART;TZID=Europe/Paris:20260621T160000
DTEND;TZID=Europe/Paris:20260621T190000
DTSTAMP:20260420T125201
CREATED:20250910T071933Z
LAST-MODIFIED:20250910T071933Z
UID:5084-1782057600-1782068400@patyiwaldorf.hu
SUMMARY:János nap - bizonyítványosztás
DESCRIPTION:
URL:https://patyiwaldorf.hu/esemenynaptar/janos-nap-bizonyitvanyosztas/
END:VEVENT
END:VCALENDAR